BEGIN:VCALENDAR
VERSION:2.0
PRODID:-//eventon.com NONSGML v1.0//EN
CALSCALE:GREGORIAN
METHOD:PUBLISH
BEGIN:VEVENT
UID:69eb9d3c33b38
DTSTAMP:20260424T164132Z
DTSTART:20210424T150000Z
DTEND:20210424T200000Z
LOCATION:
SUMMARY:Flea Market
DESCRIPTION:\nhttps://montereycountyfair.com/events/flea-market/
URL:https://montereycountyfair.com/events/flea-market/
END:VEVENT
END:VCALENDAR