BEGIN:VCALENDAR
VERSION:2.0
PRODID:-//eventon.com NONSGML v1.0//EN
CALSCALE:GREGORIAN
METHOD:PUBLISH
BEGIN:VEVENT
UID:69eb9e23b7eab
DTSTAMP:20260424T164523Z
DTSTART:20250628T130000Z
DTEND:20250628T160000Z
LOCATION:
SUMMARY:Bay Brew Fest
DESCRIPTION:Complete details and tickets here\nhttps://montereycountyfair.c
 om/events/bay-brew-fest/
URL:https://montereycountyfair.com/events/bay-brew-fest/
END:VEVENT
END:VCALENDAR