BEGIN:VCALENDAR
VERSION:2.0
PRODID:-//eventon.com NONSGML v1.0//EN
CALSCALE:GREGORIAN
METHOD:PUBLISH
BEGIN:VEVENT
UID:69eae330070fb
DTSTAMP:20260424T032744Z
DTSTART:20250523
DTEND:20250524
LOCATION:
SUMMARY:Cali Roots
DESCRIPTION:Cali Roots\nhttps://montereycountyfair.com/events/cali-roots/
URL:https://montereycountyfair.com/events/cali-roots/
END:VEVENT
END:VCALENDAR